BEGIN:VCALENDAR
VERSION:2.0
PRODID:-//ChamberMaster//Event Calendar 2.0//EN
METHOD:PUBLISH
X-PUBLISHED-TTL:P3D
REFRESH-INTERVAL:P3D
CALSCALE:GREGORIAN
BEGIN:VEVENT
DTSTART:20180618T233000Z
DTEND:20180619T014500Z
X-MICROSOFT-CDO-ALLDAYEVENT:FALSE
SUMMARY:The Fruit Club Truck Delivery
DESCRIPTION:We will be in Mitchell to deliver Bing Cherries and Blueberries on June 18th from 6:30 PM   8:45 PM. We will be at The Davison County Fairgrounds. See you at the truck.
X-ALT-DESC;FMTTYPE=text/html:We will be in Mitchell to deliver Bing Cherries and Blueberries on June 18th from 6:30 PM &ndash\; 8:45 PM. We will be at The Davison County Fairgrounds. See you at the truck.
LOCATION:Davison County Fairgrounds on 3200 West Haven Ave
UID:e.1624.15785
SEQUENCE:3
DTSTAMP:20260425T144518Z
URL:https://business.mitchellchamber.com/events/details/the-fruit-club-truck-delivery-15785
END:VEVENT

END:VCALENDAR
