BEGIN:VCALENDAR
VERSION:2.0
PRODID:-//ChamberMaster//Event Calendar 2.0//EN
METHOD:PUBLISH
X-PUBLISHED-TTL:P3D
REFRESH-INTERVAL:P3D
CALSCALE:GREGORIAN
BEGIN:VEVENT
DTSTART:20140522T150000Z
DTEND:20140522T170000Z
X-MICROSOFT-CDO-ALLDAYEVENT:FALSE
SUMMARY:The Exceptional Employee Training
DESCRIPTION:Ask most employees and they will tell you they are performing at an above average level.  V.J.\, drawing on over 20 years experience as a  supervisor\, offers ten specific traits that separate the exceptional   employee from the average employee.  This talk is filled with anecdotes and humorous stories to illustrate key points.  Every person in the audience will relate to the various categories and be able to judge where they are on the "Exceptional Scale. "  For some\, it will be a real eye-opener.
X-ALT-DESC;FMTTYPE=text/html:<span style="font-size:14px\;"><span style="font-family: arial\;">Ask most employees and they will tell you they are performing at an above average level.&nbsp\; V.J.\, drawing on over 20 years experience as a&nbsp\; supervisor\, offers ten specific traits that separate the exceptional&nbsp\;&nbsp\; employee from the average employee.&nbsp\; This talk is filled with anecdotes and humorous stories to illustrate key points.&nbsp\; Every person in the audience will relate to the various categories and be able to judge where they are on the &ldquo\;Exceptional Scale. &rdquo\;&nbsp\; For some\, it will be a real eye-opener.</span></span><br />\n&nbsp\;
LOCATION:Highland Conference Center 2000 Highland Way Mitchell
UID:e.1624.1151
SEQUENCE:3
DTSTAMP:20260419T123551Z
URL:https://business.mitchellchamber.com/events/details/the-exceptional-employee-training-05-22-2014-1151
END:VEVENT

END:VCALENDAR
