BEGIN:VCALENDAR
VERSION:2.0
PRODID:-//ChamberMaster//Event Calendar 2.0//EN
METHOD:PUBLISH
X-PUBLISHED-TTL:P3D
REFRESH-INTERVAL:P3D
CALSCALE:GREGORIAN
BEGIN:VEVENT
DTSTART:20171024T163000Z
DTEND:20171024T190000Z
X-MICROSOFT-CDO-ALLDAYEVENT:FALSE
SUMMARY:The Entrepreneur's Mall
DESCRIPTION:Kelley Center For Entrepreneurship\n\nSupport Student Run Businesses at Daktoa Wesleyan University\n\nhttps://kelleycenter.wixsite.com/home to view all the feature businesses
X-ALT-DESC;FMTTYPE=text/html:<h1 class="font_0" style="font-size: 30px\;"><span style="text-shadow:#c8c8c8 1px 1px 0px\, #b4b4b4 0px 2px 0px\, #a0a0a0 0px 3px 0px\, rgba(140\, 140\, 140\, 0.498039) 0px 4px 0px\, #787878 0px 0px 0px\, rgba(0\, 0\, 0\, 0.498039) 0px 5px 10px\;"><span style="font-size:30px\;"><span style="font-family:museo-w01-700\,serif\;"><a href="https://kelleycenter.wixsite.com/home" target="_self"><span style="color:#000080\;">Kelley Center For Entrepreneurship<br />\nSupport Student Run Businesses at Daktoa Wesleyan University</span></a></span></span></span></h1>\n\n<div class="font_0" style="font-size: 30px\;"><span style="font-size:18px\;"><a href="https://kelleycenter.wixsite.com/home">https://kelleycenter.wixsite.com/home</a></span><span style="font-size:18px\;"> to view all the feature businesses</span></div>\n
LOCATION:Sherman Center DWU Campus
UID:e.1624.9142
SEQUENCE:3
DTSTAMP:20260426T013811Z
URL:https://business.mitchellchamber.com/events/details/the-entrepreneur-s-mall-9142
END:VEVENT

END:VCALENDAR
