BEGIN:VCALENDAR
VERSION:2.0
PRODID:-//ChamberMaster//Event Calendar 2.0//EN
METHOD:PUBLISH
X-PUBLISHED-TTL:P3D
REFRESH-INTERVAL:P3D
CALSCALE:GREGORIAN
BEGIN:VEVENT
DTSTART:20190115T010000Z
DTEND:20190115T020000Z
X-MICROSOFT-CDO-ALLDAYEVENT:FALSE
SUMMARY:The Cost of Opioid Abuse
DESCRIPTION:Dakota Wesleyan University will host "The Cost of Opioid Abuse: A forum on opioid abuse in South Dakota\," featuring Angela Kennecke\, KELOLAND news anchor\, who will share the story of her daughter's overdose. Following her talk\, Kennecke will join a panel discussion on opioid abuse\, which will include Mitchell Police Chief Lyndon Overweg\, Mitchell Department of Public Safety\; Joel Van Dover\, an addiction survivor\; and Dr. Matthew Stanley\, of Avera Hospital Network. They will discuss their expertise and then respond to questions from the audience.
X-ALT-DESC;FMTTYPE=text/html:Dakota Wesleyan University will host &ldquo\;The Cost of Opioid Abuse: A forum on opioid abuse in South Dakota\,&rdquo\; featuring Angela Kennecke\, KELOLAND news anchor\, who will share the story of her daughter&#39\;s overdose. Following her talk\, Kennecke will join a panel discussion on opioid abuse\, which will include Mitchell Police Chief Lyndon Overweg\, Mitchell Department of Public Safety\; Joel Van Dover\, an addiction survivor\; and Dr. Matthew Stanley\, of Avera Hospital Network. They will discuss their expertise and then respond to questions from the audience.
LOCATION:Dakota Wesleyan University Sherman Center. This event will also be live-streamed at www.dwu.edu/live and later posted to DWU's YouTube channel\, youtube.com/DWUedu.
UID:e.1624.21641
SEQUENCE:3
DTSTAMP:20260424T201935Z
URL:https://business.mitchellchamber.com/events/details/the-cost-of-opioid-abuse-21641
END:VEVENT

END:VCALENDAR
