BEGIN:VCALENDAR
VERSION:2.0
PRODID:-//ChamberMaster//Event Calendar 2.0//EN
METHOD:PUBLISH
X-PUBLISHED-TTL:P3D
REFRESH-INTERVAL:P3D
CALSCALE:GREGORIAN
BEGIN:VEVENT
DTSTART:20151011T003000Z
DTEND:20151011T030000Z
X-MICROSOFT-CDO-ALLDAYEVENT:FALSE
SUMMARY:"The Boys Next Door"
DESCRIPTION:The Boys Next Door was written in the early 1980s by Tom Griffin. This play is a two act comedy drama about four intellectually disabled men who live together in small group home apartment in\n\nBoston.  It takes place over roughly a two-month period and consists of brief vignettes about their lives. The play provides a humorous commentary on the men's lives\, taking a surprising turn as Barry's father comes to visit and as Jack (their caretaker) accepts a new job.\n\n\n\nTickets on sale September 18th
X-ALT-DESC;FMTTYPE=text/html:<em><span style="font-family:arial"><span style="font-size:12.0pt">The Boys Next Door</span></span></em><span style="font-family:arial"><span style="font-size:12.0pt"> was written in the early 1980s by Tom Griffin. This play is a two act comedy drama about four intellectually disabled men who live together in small group home apartment in<br />\nBoston.&nbsp\; It takes place over roughly a two-month period and consists of brief vignettes about their lives. The play provides a humorous commentary on the men&#39\;s lives\, taking a surprising turn as Barry&#39\;s father comes to visit and as Jack (their caretaker) accepts a new job.<br />\n<br />\nTickets on sale September 18th</span></span><br />\n&nbsp\;<br />\n&nbsp\;
LOCATION:Pepsi-Cola Theatre for the Performing Arts. 700 N Main Street Mitchell\, SD
UID:e.1624.1981
SEQUENCE:3
DTSTAMP:20260421T070504Z
URL:https://business.mitchellchamber.com/events/details/the-boys-next-door-10-10-2015-1981
END:VEVENT

END:VCALENDAR
