BEGIN:VCALENDAR
VERSION:2.0
PRODID:-//ChamberMaster//Event Calendar 2.0//EN
METHOD:PUBLISH
X-PUBLISHED-TTL:P3D
REFRESH-INTERVAL:P3D
CALSCALE:GREGORIAN
BEGIN:VEVENT
DTSTART:20240507T210000Z
DTEND:20240508T000000Z
X-MICROSOFT-CDO-ALLDAYEVENT:FALSE
SUMMARY:Teen Game Night
DESCRIPTION:Play board games or video games from the library collection. Snacks will be provided.
X-ALT-DESC;FMTTYPE=text/html:<div>Play board games or video games from the library collection. Snacks will be provided.</div>\n
LOCATION:Mitchell Public Library 221 N. Duff St. Mitchell\, SD 57301
UID:e.1624.36342
SEQUENCE:3
DTSTAMP:20260420T063655Z
URL:https://business.mitchellchamber.com/events/details/teen-game-night-36342
END:VEVENT

END:VCALENDAR
