BEGIN:VCALENDAR
VERSION:2.0
PRODID:-//ChamberMaster//Event Calendar 2.0//EN
METHOD:PUBLISH
X-PUBLISHED-TTL:P3D
REFRESH-INTERVAL:P3D
CALSCALE:GREGORIAN
BEGIN:VEVENT
DTSTART:20221001T150000Z
DTEND:20221001T180000Z
X-MICROSOFT-CDO-ALLDAYEVENT:FALSE
SUMMARY:Tech Help Sessions
DESCRIPTION:Reserve a 30-minute time slot to receive one-on-one help for a technology problem or skill. This is an excellent opportunity if you want to learn how to use Microsoft Office or need a little guidance for changing some settings. Register at the library's Circulation Desk or call the library at 605-995-8480. When you register\, please list what you would like to cover. We will NOT help install new software to a computer.
X-ALT-DESC;FMTTYPE=text/html:<p><span style="background-color:rgb(255\, 255\, 255)\; color:rgb(51\, 51\, 51)\; font-family:source sans pro\; font-size:15.2px">Reserve a 30-minute time slot to receive one-on-one help for a technology problem or skill. This is an excellent opportunity if you want to learn how to use Microsoft Office or need a little guidance for changing some settings. Register at the library&#39\;s Circulation </span><span style="background-color:rgb(255\, 255\, 255)\; color:rgb(51\, 51\, 51)\; font-family:source sans pro\; font-size:15.2px">Desk or call the library at 605-995-8480. When you register\, please list what you would like to cover. We will NOT help install new software to a computer.</span></p>\n
LOCATION:Mitchell Public Library 221 N. Duff St\, Mitchell\, SD 57301
UID:e.1624.32844
SEQUENCE:3
DTSTAMP:20260421T165941Z
URL:https://business.mitchellchamber.com/events/details/tech-help-sessions-32844
END:VEVENT

END:VCALENDAR
