BEGIN:VCALENDAR
VERSION:2.0
PRODID:-//ChamberMaster//Event Calendar 2.0//EN
METHOD:PUBLISH
X-PUBLISHED-TTL:P3D
REFRESH-INTERVAL:P3D
CALSCALE:GREGORIAN
BEGIN:VEVENT
DTSTART:20181110T013000Z
DTEND:20181110T030000Z
X-MICROSOFT-CDO-ALLDAYEVENT:FALSE
SUMMARY:Tapestry- A Respectful Salute to the Music of Carole King
DESCRIPTION:This show recreates the sound and vibe of a 1970's Carole King concert experience following her legendary album\, Tapestry. You will be transported back to the iconic image of her multi-million selling album of 1971.\n\nImpeccable attention to detail is taken in recreating a respectful and accurate musical presentation of piano and vocals\, just as they were. Suzanne's performance will take you on a journey back to those great recordings. During the 70's & 80's\, Carole played solo\, with acoustic musicians\, and a full band with horns during this period. This show is performed in any of those formats.\n\nTapestry not only presents the record-breaking\, Grammy winning album of the same name\, but is a retrospective of the iconic songwriting team of Goffin and King\, and her hits that continued into the 70's. This prolific team wrote chart-topping hits for artists such as Aretha Franklin\, Bobby Vee\, The Beatles\, James Taylor\, the Drifters\, Donny Osmond and the list goes on.
X-ALT-DESC;FMTTYPE=text/html:<p style="margin: 0px 0px 10px\; padding: 0px\; color: rgb(37\, 41\, 86)\; font-family: Roboto\, Helvetica\, Arial\, Verdana\, sans-serif\; font-size: 16px\;">This show recreates the sound and vibe of a 1970&rsquo\;s Carole King concert experience following her legendary album\, Tapestry. You will be transported back to the iconic image of her multi-million selling album of 1971.</p>\n\n<p style="margin: 0px 0px 10px\; padding: 0px\; color: rgb(37\, 41\, 86)\; font-family: Roboto\, Helvetica\, Arial\, Verdana\, sans-serif\; font-size: 16px\;">Impeccable attention to detail is taken in recreating a respectful and accurate musical presentation of piano and vocals\, just as they were. Suzanne&rsquo\;s performance will take you on a journey back to those great recordings. During the 70&rsquo\;s &amp\; 80&rsquo\;s\, Carole played solo\, with acoustic musicians\, and a full band with horns during this period. This show is performed in any of those formats.</p>\n\n<p style="margin: 0px 0px 10px\; padding: 0px\; color: rgb(37\, 41\, 86)\; font-family: Roboto\, Helvetica\, Arial\, Verdana\, sans-serif\; font-size: 16px\;">Tapestry not only presents the record-breaking\, Grammy winning album of the same name\, but is a retrospective of the iconic songwriting team of Goffin and King\, and her hits that continued into the 70&rsquo\;s. This prolific team wrote chart-topping hits for artists such as Aretha Franklin\, Bobby Vee\, The Beatles\, James Taylor\, the Drifters\, Donny Osmond&hellip\;and the list goes on.</p>\n
LOCATION:The World's Only Corn Palace
UID:e.1624.17338
SEQUENCE:3
DTSTAMP:20260425T040359Z
URL:https://business.mitchellchamber.com/events/details/tapestry-a-respectful-salute-to-the-music-of-carole-king-17338
END:VEVENT

END:VCALENDAR
