BEGIN:VCALENDAR
VERSION:2.0
PRODID:-//ChamberMaster//Event Calendar 2.0//EN
METHOD:PUBLISH
X-PUBLISHED-TTL:P3D
REFRESH-INTERVAL:P3D
CALSCALE:GREGORIAN
BEGIN:VEVENT
DTSTART:20211110T180000Z
DTEND:20211110T190000Z
X-MICROSOFT-CDO-ALLDAYEVENT:FALSE
SUMMARY:Take a Bite Out of Cancer
DESCRIPTION:The holidays are a time for family\, friends   and food! Join Kat Thomsen\, RDN\, for the holiday edition of Take a Bite Out of Cancer where we will talk about how to savor the season using a balanced approach. During this virtual cooking demonstration we will prepare three warm and inviting seasonal treats.
X-ALT-DESC;FMTTYPE=text/html:The holidays are a time for family\, friends &ndash\; and food! Join Kat Thomsen\, RDN\, for the holiday edition of Take a Bite Out of Cancer where we will talk about how to savor the season using a balanced approach. During this virtual cooking demonstration we will prepare three warm and inviting seasonal treats.
LOCATION:Virtual event
UID:e.1624.31940
SEQUENCE:3
DTSTAMP:20260422T162318Z
URL:https://business.mitchellchamber.com/events/details/take-a-bite-out-of-cancer-31940
END:VEVENT

END:VCALENDAR
