BEGIN:VCALENDAR
VERSION:2.0
PRODID:-//ChamberMaster//Event Calendar 2.0//EN
METHOD:PUBLISH
X-PUBLISHED-TTL:P3D
REFRESH-INTERVAL:P3D
CALSCALE:GREGORIAN
BEGIN:VEVENT
DTSTART:20181208T143000Z
DTEND:20181208T230000Z
X-MICROSOFT-CDO-ALLDAYEVENT:FALSE
SUMMARY:Tailored 2 You Holiday Open House
DESCRIPTION:T2U is having a HOLIDAY OPEN HOUSE with HUGE sales and Prepay savings.......So HOT we can't even tell you yet! TOP SECRET! Sabreena Frances will be here microblading and doing permanent eyeliner\, Stocking Stuffers will be ready to purchase\, Gift Certificates for that someone special (or yourself)\, and many other great specials! Mark your calendars!!!
X-ALT-DESC;FMTTYPE=text/html:<span style="background-color:rgb(255\, 255\, 255)\; color:rgb(29\, 33\, 41)\; font-family:helvetica\,arial\,sans-serif\; font-size:14px">T2U is having a HOLIDAY OPEN HOUSE with HUGE sales and Prepay savings.......So HOT we can&#39\;t even tell you yet! TOP SECRET! Sabreena Frances will be here microblading and doing permanent eyeliner\, Stocking Stuffers will be ready to purchase\, Gift Certificates for that someone special (or yourself)\, and many other great specials! Mark your calendars!!!</span>
LOCATION:Tailored To You Med Spa 1317 West Havens Ave Mitchell\, SD 57301 605-990-4700
UID:e.1624.19816
SEQUENCE:3
DTSTAMP:20260424T203159Z
URL:https://business.mitchellchamber.com/events/details/tailored-2-you-holiday-open-house-19816
END:VEVENT

END:VCALENDAR
