BEGIN:VCALENDAR
VERSION:2.0
PRODID:-//ChamberMaster//Event Calendar 2.0//EN
METHOD:PUBLISH
X-PUBLISHED-TTL:P3D
REFRESH-INTERVAL:P3D
CALSCALE:GREGORIAN
BEGIN:VEVENT
DTSTART:20240220T223000Z
DTEND:20240221T010000Z
X-MICROSOFT-CDO-ALLDAYEVENT:FALSE
SUMMARY:Sushi Candles
DESCRIPTION:Make your own Maki or Nigiri sushi roll from bees wax sheets. This event is for ages 13-18.
X-ALT-DESC;FMTTYPE=text/html:<div min-height:="" sans="" source="" vertical-align:="">Make your own Maki or Nigiri sushi roll from bees wax sheets. This event is for ages 13-18.</div>\n
LOCATION:Mitchell Public Library 221 N. Duff St. Mitchell\, SD 57301
UID:e.1624.35884
SEQUENCE:3
DTSTAMP:20260420T160745Z
URL:https://business.mitchellchamber.com/events/details/sushi-candles-35884
END:VEVENT

END:VCALENDAR
