BEGIN:VCALENDAR
VERSION:2.0
PRODID:-//ChamberMaster//Event Calendar 2.0//EN
METHOD:PUBLISH
X-PUBLISHED-TTL:P3D
REFRESH-INTERVAL:P3D
CALSCALE:GREGORIAN
BEGIN:VEVENT
DTSTART:20240719T000000Z
DTEND:20240719T020000Z
X-MICROSOFT-CDO-ALLDAYEVENT:FALSE
SUMMARY:Summertime Celebration
DESCRIPTION:Come out and hear Billy Lurken and the Mitchell Harmony Chorus and celebrate summer in song. \n\nRefreshments will be served and it is FREE ADMISSION!
X-ALT-DESC;FMTTYPE=text/html:Come out and hear Billy Lurken and the Mitchell Harmony Chorus and celebrate summer in song.&nbsp\;<br />\nRefreshments will be served and it is FREE ADMISSION!
LOCATION:Carnegie Resource Center 119 W. 3rd Ave Mitchell\, SD 57301
UID:e.1624.37368
SEQUENCE:3
DTSTAMP:20260420T082908Z
URL:https://business.mitchellchamber.com/events/details/summertime-celebration-37368
END:VEVENT

END:VCALENDAR
