BEGIN:VCALENDAR
VERSION:2.0
PRODID:-//ChamberMaster//Event Calendar 2.0//EN
METHOD:PUBLISH
X-PUBLISHED-TTL:P3D
REFRESH-INTERVAL:P3D
CALSCALE:GREGORIAN
BEGIN:VEVENT
DTSTART:20220601T150000Z
DTEND:20220601T170000Z
X-MICROSOFT-CDO-ALLDAYEVENT:FALSE
SUMMARY:Summer Reading Kick-off - Pet Goats at the Library
DESCRIPTION:Pet the goats from 10-noon at the Mitchell Public Library\, then register for the Summer Reading Program. All ages welcome.
X-ALT-DESC;FMTTYPE=text/html:Pet the goats from 10-noon at the Mitchell Public Library\, then register for the Summer Reading Program. All ages welcome.
LOCATION:Mitchell Public Library 221 N. Duff Mitchell\, SD 57301
UID:e.1624.32549
SEQUENCE:3
DTSTAMP:20260421T235118Z
URL:https://business.mitchellchamber.com/events/details/summer-reading-kick-off-pet-goats-at-the-library-32549
END:VEVENT

END:VCALENDAR
