BEGIN:VCALENDAR
VERSION:2.0
PRODID:-//ChamberMaster//Event Calendar 2.0//EN
METHOD:PUBLISH
X-PUBLISHED-TTL:P3D
REFRESH-INTERVAL:P3D
CALSCALE:GREGORIAN
BEGIN:VEVENT
DTSTART:20180614T213000Z
DTEND:20180615T003000Z
X-MICROSOFT-CDO-ALLDAYEVENT:FALSE
SUMMARY:SUMMER OPEN HOUSE & CUSTOMER APPRECIATION
DESCRIPTION:In sincerest appreciation of your friendship and business\, we would like to invite our customers and chamber members to A&B's Summer Open House & Customer Appreciation Night. Come enjoy some food \, beverages \, and door prizes that we will be giving away. We hope to see you there!\n\n \n\n \n\nPlease RSVP at https://abmitchellopenhouse.eventbrite.com
X-ALT-DESC;FMTTYPE=text/html:<span style="font-size:12.0pt">In sincerest appreciation of your friendship and business\, we would like to invite our </span><span style="font-size:12.0pt">customers and chamber members </span><span style="font-size:12.0pt">to A&amp\;B&rsquo\;s Summer Open House &amp\; Customer Appreciation Night. Come enjoy some food \, beverages \, and door prizes that we will be giving away. We hope to see you there!</span><br />\n&nbsp\;<br />\n&nbsp\;<br />\n<span style="font-size:12.0pt">Please<strong> RSVP</strong> at <a href="https://abmitchellopenhouse.eventbrite.com"><span style="color:windowtext">https://abmitchellopenhouse.eventbrite.com</span></a> </span>
LOCATION:A&B Business Solutions\,400 E Havens St\, Mitchell\, SD 57301
UID:e.1624.15484
SEQUENCE:3
DTSTAMP:20260425T124329Z
URL:https://business.mitchellchamber.com/events/details/summer-open-house-customer-appreciation-15484
END:VEVENT

END:VCALENDAR
