BEGIN:VCALENDAR
VERSION:2.0
PRODID:-//ChamberMaster//Event Calendar 2.0//EN
METHOD:PUBLISH
X-PUBLISHED-TTL:P3D
REFRESH-INTERVAL:P3D
CALSCALE:GREGORIAN
BEGIN:VEVENT
DTSTART:20180703T183000Z
DTEND:20180703T203000Z
X-MICROSOFT-CDO-ALLDAYEVENT:FALSE
SUMMARY:Summer Kid's Program - Week Two - "This is My Country!"
DESCRIPTION:Discover your country! Join us for an exploration of America! What did Lewis and Clark find when they crossed over the next hill or around the next bend in the river? Each day\, explorers will take a section of the Lewis and Clark route and discover what they discovered. We look at the boats\, provisions\, and travel of the Corp. of Discovery.
X-ALT-DESC;FMTTYPE=text/html:Discover your country! Join us for an exploration of America! What did Lewis and Clark find when they crossed over the next hill or around the next bend in the river? Each day\, explorers will take a section of the Lewis and Clark route and discover what they discovered. We look at the boats\, provisions\, and travel of the Corp. of Discovery.&nbsp\;
LOCATION:Dakota Discovery Museum\, 1300 McGovern Ave.
UID:e.1624.15908
SEQUENCE:3
DTSTAMP:20260425T124930Z
URL:https://business.mitchellchamber.com/events/details/summer-kid-s-program-week-two-this-is-my-country-07-03-2018-15908
END:VEVENT

END:VCALENDAR
