BEGIN:VCALENDAR
VERSION:2.0
PRODID:-//ChamberMaster//Event Calendar 2.0//EN
METHOD:PUBLISH
X-PUBLISHED-TTL:P3D
REFRESH-INTERVAL:P3D
CALSCALE:GREGORIAN
BEGIN:VEVENT
DTSTART:20180709T183000Z
DTEND:20180709T203000Z
X-MICROSOFT-CDO-ALLDAYEVENT:FALSE
SUMMARY:Summer Kid's Program - Week Three - "Discover Iron Ribbons!"
DESCRIPTION:Discover Iron Ribbons!  The railroad connected East to West and all points in between. Join us for three exciting sessions about railroads in Dakota Territory and South Dakota. Each railroad worker will discover how the railroads came\, what kind of equipment was needed\, and how the railroads built communities all over South Dakota.
X-ALT-DESC;FMTTYPE=text/html:Discover Iron Ribbons!&nbsp\; The railroad connected East to West and all points in between. Join us for three exciting sessions about railroads in Dakota Territory and South Dakota. Each railroad worker will discover how the railroads came\, what kind of equipment was needed\, and how the railroads built communities all over South Dakota.&nbsp\;
LOCATION:Dakota Discovery Museum\, 1300 McGovern Ave.
UID:e.1624.15907
SEQUENCE:3
DTSTAMP:20260425T110711Z
URL:https://business.mitchellchamber.com/events/details/summer-kid-s-program-week-three-discover-iron-ribbons-07-09-2018-15907
END:VEVENT

END:VCALENDAR
