BEGIN:VCALENDAR
VERSION:2.0
PRODID:-//ChamberMaster//Event Calendar 2.0//EN
METHOD:PUBLISH
X-PUBLISHED-TTL:P3D
REFRESH-INTERVAL:P3D
CALSCALE:GREGORIAN
BEGIN:VEVENT
DTSTART:20180720T183000Z
DTEND:20180720T203000Z
X-MICROSOFT-CDO-ALLDAYEVENT:FALSE
SUMMARY:Summer Kid's Program - Week Four - "Discover the Homestead!"
DESCRIPTION:Discover the Homestead! The Homestead Act opened Dakota Territory for settlement to people from all over the world. From the 1870's - 1900 thousands came\, building homes\, farms\, and communities. Discover how they traveled\, how they obtained land\, how they build their homes. We'll look at their successes\, and their tragedies and learn about living\, growing\, and prospering.
X-ALT-DESC;FMTTYPE=text/html:Discover the Homestead! The Homestead Act opened Dakota Territory for settlement to people from all over the world. From the 1870&#39\;s - 1900 thousands came\, building homes\, farms\, and communities. Discover how they traveled\, how they obtained land\, how they build their homes. We&#39\;ll look at their successes\, and their tragedies and learn about living\, growing\, and prospering.&nbsp\;
LOCATION:Dakota Discovery Museum\, 1300 McGovern Ave.
UID:e.1624.15945
SEQUENCE:3
DTSTAMP:20260425T110936Z
URL:https://business.mitchellchamber.com/events/details/summer-kid-s-program-week-four-discover-the-homestead-07-20-2018-15945
END:VEVENT

END:VCALENDAR
