BEGIN:VCALENDAR
VERSION:2.0
PRODID:-//ChamberMaster//Event Calendar 2.0//EN
METHOD:PUBLISH
X-PUBLISHED-TTL:P3D
REFRESH-INTERVAL:P3D
CALSCALE:GREGORIAN
BEGIN:VEVENT
DTSTART:20180727T183000Z
DTEND:20180727T203000Z
X-MICROSOFT-CDO-ALLDAYEVENT:FALSE
SUMMARY:Summer Kid's Program - Week Five - "Discover Art!"
DESCRIPTION:Discover Art! Come join in a week of creating! Under guidance from an instructor\, each artist creates one or more pieces of art during a week of creativity unleashed!
X-ALT-DESC;FMTTYPE=text/html:Discover Art! Come join in a week of creating! Under guidance from an instructor\, each artist creates one or more pieces of art during a week of creativity unleashed!&nbsp\;
LOCATION:Dakota Discovery Museum\, 1300 McGovern Ave.
UID:e.1624.15957
SEQUENCE:3
DTSTAMP:20260425T110522Z
URL:https://business.mitchellchamber.com/events/details/summer-kid-s-program-week-five-discover-art-07-27-2018-15957
END:VEVENT

END:VCALENDAR
