BEGIN:VCALENDAR
VERSION:2.0
PRODID:-//ChamberMaster//Event Calendar 2.0//EN
METHOD:PUBLISH
X-PUBLISHED-TTL:P3D
REFRESH-INTERVAL:P3D
CALSCALE:GREGORIAN
BEGIN:VEVENT
DTSTART;VALUE=DATE:20180728
DTEND;VALUE=DATE:20180729
TRANSP:TRANSPARENT
X-MICROSOFT-CDO-ALLDAYEVENT:TRUE
SUMMARY:Summer Crazy Days
DESCRIPTION:Help city-wide Mitchell businesses clean out their inventory! Summer Crazy Days offers consumers an opportunity to get great deals on summer apparel\, home decor and other items.
X-ALT-DESC;FMTTYPE=text/html:<span style="color: rgb(85\, 85\, 85)\; font-family: Raleway\, sans-serif\; font-size: 16px\; letter-spacing: 0.5px\; background-color: rgb(249\, 249\, 249)\;">Help city-wide Mitchell businesses clean out their inventory! Summer Crazy Days offers consumers an opportunity to get great deals on summer apparel\, home decor and other items.</span>
LOCATION:Businesses throughout Mitchell
UID:e.1624.15408
SEQUENCE:3
DTSTAMP:20260425T110317Z
URL:https://business.mitchellchamber.com/events/details/summer-crazy-days-15408
END:VEVENT

END:VCALENDAR
