BEGIN:VCALENDAR
VERSION:2.0
PRODID:-//ChamberMaster//Event Calendar 2.0//EN
METHOD:PUBLISH
X-PUBLISHED-TTL:P3D
REFRESH-INTERVAL:P3D
CALSCALE:GREGORIAN
BEGIN:VEVENT
DTSTART:20250215T180000Z
DTEND:20250216T000000Z
X-MICROSOFT-CDO-ALLDAYEVENT:FALSE
SUMMARY:String Art Workshop
DESCRIPTION:You choose from various string art patterns to make.
X-ALT-DESC;FMTTYPE=text/html:You choose from various string art patterns to make.
LOCATION:Your Shop at 304 N Main St\, Mitchell\, SD
UID:e.1624.39400
SEQUENCE:3
DTSTAMP:20260421T113457Z
URL:https://business.mitchellchamber.com/events/details/string-art-workshop-39400
END:VEVENT

END:VCALENDAR
