BEGIN:VCALENDAR
VERSION:2.0
PRODID:-//ChamberMaster//Event Calendar 2.0//EN
METHOD:PUBLISH
X-PUBLISHED-TTL:P3D
REFRESH-INTERVAL:P3D
CALSCALE:GREGORIAN
BEGIN:VEVENT
DTSTART:20240323T153000Z
DTEND:20240323T170000Z
X-MICROSOFT-CDO-ALLDAYEVENT:FALSE
SUMMARY:Story reading and book signing
DESCRIPTION:Reading of Zoey's Way Home and book signing. Exciting children's book promoting friendship\, determination\, forgiveness\, and love of family.
X-ALT-DESC;FMTTYPE=text/html:Reading of Zoey&#39\;s Way Home and book signing. Exciting children&#39\;s book promoting friendship\, determination\, forgiveness\, and love of family.
LOCATION:Mitchell Public Library 221 N Duff St Mitchell\, SD
UID:e.1624.36199
SEQUENCE:3
DTSTAMP:20260420T105301Z
URL:https://business.mitchellchamber.com/events/details/story-reading-and-book-signing-36199
END:VEVENT

END:VCALENDAR
