BEGIN:VCALENDAR
VERSION:2.0
PRODID:-//ChamberMaster//Event Calendar 2.0//EN
METHOD:PUBLISH
X-PUBLISHED-TTL:P3D
REFRESH-INTERVAL:P3D
CALSCALE:GREGORIAN
BEGIN:VEVENT
DTSTART:20240208T173000Z
DTEND:20240208T190000Z
X-MICROSOFT-CDO-ALLDAYEVENT:FALSE
SUMMARY:State of the Schools Luncheon
DESCRIPTION:The Mitchell Area Chamber of Commerce Government Affairs Committee is pleased to announce their 4th Annual State of the Schools Luncheon on Thursday\, Feb. 8. Join us for the chance to hear an update on how our local schools have been navigating the past year as well as plans for the future. A Q&A portion will follow the discussion. Doors open at 11:30 a.m. with the discussion beginning at Noon. The luncheon will be held at the DWU School of Business - Pratt Board Room (1200 W University Ave).\n\n\n\nA deli-style lunch catered by Fresh Ideas will be available. Check-in will begin at 11:30 a.m.\n\n\n\nPre-registration is required - $12 per person.\n\n\n\nFor meal count\, please register by Monday\, Feb. 5\, 2024.
X-ALT-DESC;FMTTYPE=text/html:The Mitchell Area Chamber of Commerce <em>Government Affairs Committee</em> is pleased to announce their 4th Annual State of the Schools Luncheon on Thursday\, Feb. 8. Join us for the chance to hear an update on how our local schools have been navigating the past year as well as plans for the future. A Q&amp\;A portion will follow the discussion. Doors open at 11:30 a.m. with the discussion beginning at Noon.&nbsp\;<span font-size:="" open="" style="font-family: " white-space-collapse:="">The luncheon will be held at the DWU School of Business - Pratt Board Room (1200 W University Ave).</span><br />\n<br />\nA deli-style lunch catered by Fresh Ideas will be available. Check-in will begin at 11:30 a.m.<br />\n<br />\nPre-registration is required - $12 per person.<br />\n<br />\nFor meal count\, please register by Monday\, Feb. 5\, 2024.
LOCATION:DWU School of Business - Pratt Board Room 1200 W University Ave Mitchell\, South Dakota
UID:e.1624.35833
SEQUENCE:3
DTSTAMP:20260420T161036Z
URL:https://business.mitchellchamber.com/events/details/state-of-the-schools-luncheon-35833
END:VEVENT

END:VCALENDAR
