BEGIN:VCALENDAR
VERSION:2.0
PRODID:-//ChamberMaster//Event Calendar 2.0//EN
METHOD:PUBLISH
X-PUBLISHED-TTL:P3D
REFRESH-INTERVAL:P3D
CALSCALE:GREGORIAN
BEGIN:VEVENT
DTSTART:20240302T160000Z
DTEND:20240302T200000Z
X-MICROSOFT-CDO-ALLDAYEVENT:FALSE
SUMMARY:St. Patrick's Day/Easter Walk-In Make & Take Workshop Ages 6+
DESCRIPTION:Join us for a Make & Take workshop! We provide all the materials and instruct you step-by-step to create a beautiful piece for your home or for a gift. Choose from a variety of paint colors in the workshop. Please note\, due to the size of these projects\, no personalization is accepted. We look forward to seeing you soon!
X-ALT-DESC;FMTTYPE=text/html:<span style="color:rgb(74\, 74\, 74)\; font-family:droid_sansregular\,sans-serif\; font-size:16px">Join us for a Make &amp\; Take workshop! We provide all the materials and instruct you step-by-step to create a beautiful piece for your home or for a gift. Choose from a variety of paint colors in the workshop. Please note\, due to the size of these projects\, no personalization is accepted. We look forward to seeing you soon!</span>
LOCATION:Board & Brush Mitchell 405 N Main Street
UID:e.1624.36139
SEQUENCE:3
DTSTAMP:20260420T104832Z
URL:https://business.mitchellchamber.com/events/details/st-patrick-s-day-easter-walk-in-make-take-workshop-ages-6-36139
END:VEVENT

END:VCALENDAR
