BEGIN:VCALENDAR
VERSION:2.0
PRODID:-//ChamberMaster//Event Calendar 2.0//EN
METHOD:PUBLISH
X-PUBLISHED-TTL:P3D
REFRESH-INTERVAL:P3D
CALSCALE:GREGORIAN
BEGIN:VEVENT
DTSTART:20240413T150000Z
DTEND:20240413T170000Z
X-MICROSOFT-CDO-ALLDAYEVENT:FALSE
SUMMARY:Spring Tea & Hat Parade
DESCRIPTION:Hallelujah! Just as Christ rose from the dead\, spring brings new life and rejuvenation. Come dine with us\, bond over brunch\, and don't forget to don your fanciest hats for our parade! We want to see all sorts of headgear\, from old-fashioned top hats to floppy sun hats. After the parade\, let's have a grand fashion show and learn all about the history of our beloved hats. Come share in the joy of the season!
X-ALT-DESC;FMTTYPE=text/html:Hallelujah! Just as Christ rose from the dead\, spring brings new life and rejuvenation. Come dine with us\, bond over brunch\, and don&#39\;t forget to don your fanciest hats for our parade! We want to see all sorts of headgear\, from old-fashioned top hats to floppy sun hats. After the parade\, let&#39\;s have a grand fashion show and learn all about the history of our beloved hats. Come share in the joy of the season!
LOCATION:Harvest Community Church 1017 S Minnesota St. Mitchell\, SD\, 57301
UID:e.1624.35160
SEQUENCE:3
DTSTAMP:20260420T092929Z
URL:https://business.mitchellchamber.com/events/details/spring-tea-hat-parade-35160
END:VEVENT

END:VCALENDAR
