BEGIN:VCALENDAR
VERSION:2.0
PRODID:-//ChamberMaster//Event Calendar 2.0//EN
METHOD:PUBLISH
X-PUBLISHED-TTL:P3D
REFRESH-INTERVAL:P3D
CALSCALE:GREGORIAN
BEGIN:VEVENT
DTSTART;VALUE=DATE:20220315
DTEND;VALUE=DATE:20220411
TRANSP:TRANSPARENT
X-MICROSOFT-CDO-ALLDAYEVENT:TRUE
SUMMARY:Spring Quilt Auction
DESCRIPTION:Here's your chance to honor our talented James Valley Community Center Quilters during our Spring Quilt Silent Auction. This will replace our May Day Basket Auction this year. The quilt was donated & our Quilters finished it. It is a generous full size quilt measuring 84" x 100". Bids will be taken in person\, over the phone (995-8048) or on-line by sending a message through our FaceBook Page. The auction will conclude at the end of the intermission of the April 10th JVCC Dance.
X-ALT-DESC;FMTTYPE=text/html:Here&rsquo\;s your chance to honor our talented James Valley Community Center Quilters during our Spring Quilt Silent Auction. This will replace our May Day Basket Auction this year. The quilt was donated &amp\; our Quilters finished it. It is a generous full size quilt measuring 84&rdquo\; x 100&rdquo\;. Bids will be taken in person\, over the phone (995-8048) or on-line by sending a message through our FaceBook Page. The auction will conclude at the end of the intermission of the April 10th JVCC Dance.
LOCATION:James Valley Community Center 300 West 1st Ave\, Mitchell
UID:e.1624.32438
SEQUENCE:3
DTSTAMP:20260422T000930Z
URL:https://business.mitchellchamber.com/events/details/spring-quilt-auction-32438
END:VEVENT

END:VCALENDAR
