BEGIN:VCALENDAR
VERSION:2.0
PRODID:-//ChamberMaster//Event Calendar 2.0//EN
METHOD:PUBLISH
X-PUBLISHED-TTL:P3D
REFRESH-INTERVAL:P3D
CALSCALE:GREGORIAN
BEGIN:VEVENT
DTSTART:20240323T150000Z
DTEND:20240323T200000Z
X-MICROSOFT-CDO-ALLDAYEVENT:FALSE
SUMMARY:Spring Moose Lodge Vendor Fair
DESCRIPTION:Do some spring shopping with your favorite vendors and crafters!
X-ALT-DESC;FMTTYPE=text/html:<div>Do some spring shopping with your favorite vendors and crafters!</div>\n\n<div>\n<div>\n<div>&nbsp\;</div>\n</div>\n</div>\n
LOCATION:Moose Lodge Mitchell 516 W. 15th Mitchell\, SD 57301
UID:e.1624.35881
SEQUENCE:3
DTSTAMP:20260420T105052Z
URL:https://business.mitchellchamber.com/events/details/spring-moose-lodge-vendor-fair-35881
END:VEVENT

END:VCALENDAR
