BEGIN:VCALENDAR
VERSION:2.0
PRODID:-//ChamberMaster//Event Calendar 2.0//EN
METHOD:PUBLISH
X-PUBLISHED-TTL:P3D
REFRESH-INTERVAL:P3D
CALSCALE:GREGORIAN
BEGIN:VEVENT
DTSTART:20250330T130000Z
DTEND:20250330T210000Z
X-MICROSOFT-CDO-ALLDAYEVENT:FALSE
SUMMARY:Special Olympics South Dakota State Basketball Tournament
DESCRIPTION:The Special Olympics South Dakota State Basketball tournament will be held the weekend of March 29th and 30th. More than 800 Special Olympics Athletes\, Unified partners (individuals without intellectual disabilities) and coaches will be competing in the tournament. If you are interested in volunteering during the tournament we are looking for 60 volunteers that could help run scoreboard\, scorebook\, and two referees per court. There are two shifts split each day\, a morning\, and an afternoon. Click the link to learn more and register to volunteer!
X-ALT-DESC;FMTTYPE=text/html:The Special Olympics South Dakota State Basketball tournament will be held the weekend of March 29th and 30th. More than 800 Special Olympics Athletes\, Unified partners (individuals without intellectual disabilities) and coaches will be competing in the tournament. If you are interested in volunteering during the tournament we are looking for 60 volunteers that could help run scoreboard\, scorebook\, and two referees per court. There are two shifts split each day\, a morning\, and an afternoon. Click the link to learn more and register to volunteer!
LOCATION:Mitchell Middle School\, Mitchell High School\, DWU\, and LB Williams
UID:e.1624.39591
SEQUENCE:3
DTSTAMP:20260421T113812Z
URL:https://business.mitchellchamber.com/events/details/special-olympics-south-dakota-state-basketball-tournament-39591
END:VEVENT

END:VCALENDAR
