BEGIN:VCALENDAR
VERSION:2.0
PRODID:-//ChamberMaster//Event Calendar 2.0//EN
METHOD:PUBLISH
X-PUBLISHED-TTL:P3D
REFRESH-INTERVAL:P3D
CALSCALE:GREGORIAN
BEGIN:VEVENT
DTSTART:20260512T140000Z
DTEND:20260512T213000Z
X-MICROSOFT-CDO-ALLDAYEVENT:FALSE
SUMMARY:Southeast SD Tourism Summit and LIT Swap
DESCRIPTION:
X-ALT-DESC;FMTTYPE=text/html:
LOCATION:The World's Only Corn Palace
UID:e.1624.42884
SEQUENCE:3
DTSTAMP:20260421T094537Z
URL:https://business.mitchellchamber.com/events/details/southeast-sd-tourism-summit-and-lit-swap-42884
END:VEVENT

END:VCALENDAR
