BEGIN:VCALENDAR
VERSION:2.0
PRODID:-//ChamberMaster//Event Calendar 2.0//EN
METHOD:PUBLISH
X-PUBLISHED-TTL:P3D
REFRESH-INTERVAL:P3D
CALSCALE:GREGORIAN
BEGIN:VEVENT
DTSTART:20180321T000000Z
DTEND:20180321T013000Z
X-MICROSOFT-CDO-ALLDAYEVENT:FALSE
SUMMARY:South Dakota State Poet Laureate
DESCRIPTION:Dakota Wesleyan University will welcome the South Dakota State Poet Laureate Lee Ann Roripaugh to campus. Roripaugh will present a reading at 7 p.m.\, Tuesday\, March 20\, in the Sherman Center. This event is free and open to the public.
X-ALT-DESC;FMTTYPE=text/html:<span style="color:rgb(52\, 52\, 52)\; font-family:tahoma\,geneva\,sans-serif\; font-size:16px">Dakota Wesleyan University will welcome the South Dakota State Poet Laureate Lee Ann Roripaugh to campus.&nbsp\;Roripaugh will present a reading at 7 p.m.\, Tuesday\, March 20\, in the Sherman Center. This event is free and open to the public.</span>
LOCATION:DWU Sherman Center
UID:e.1624.13187
SEQUENCE:3
DTSTAMP:20260425T173449Z
URL:https://business.mitchellchamber.com/events/details/south-dakota-state-poet-laureate-13187
END:VEVENT

END:VCALENDAR
