BEGIN:VCALENDAR
VERSION:2.0
PRODID:-//ChamberMaster//Event Calendar 2.0//EN
METHOD:PUBLISH
X-PUBLISHED-TTL:P3D
REFRESH-INTERVAL:P3D
CALSCALE:GREGORIAN
BEGIN:VEVENT
DTSTART;VALUE=DATE:20220811
DTEND;VALUE=DATE:20220812
TRANSP:TRANSPARENT
X-MICROSOFT-CDO-ALLDAYEVENT:TRUE
SUMMARY:South Dakota State Cowboy Fast Draw Championship
DESCRIPTION:8:00 a.m.   Shooters' Meeting at Range\n\n8:30 a.m.   S.D. State Main Match Continues & 2nd Chance Shoot Begins (for those out on Wednesday.)\n\n Boothill Challenge to Follow\n\n Awards Presented at Range
X-ALT-DESC;FMTTYPE=text/html:8:00 a.m. &ndash\; Shooters&rsquo\; Meeting at Range<br />\n8:30 a.m. &ndash\; S.D. State Main Match Continues &amp\; 2nd Chance Shoot Begins (for those out on Wednesday.)<br />\n&nbsp\;Boothill Challenge to Follow<br />\n&nbsp\;Awards Presented at Range
LOCATION:Davison County Gun Club 3260 W. Havens Ave. Mitchell\, South Dakota
UID:e.1624.32501
SEQUENCE:3
DTSTAMP:20260421T202219Z
URL:https://business.mitchellchamber.com/events/details/south-dakota-state-cowboy-fast-draw-championship-32501
END:VEVENT

END:VCALENDAR
