BEGIN:VCALENDAR
VERSION:2.0
PRODID:-//ChamberMaster//Event Calendar 2.0//EN
METHOD:PUBLISH
X-PUBLISHED-TTL:P3D
REFRESH-INTERVAL:P3D
CALSCALE:GREGORIAN
BEGIN:VEVENT
DTSTART:20190126T173000Z
DTEND:20190126T193000Z
X-MICROSOFT-CDO-ALLDAYEVENT:FALSE
SUMMARY:SOUPer BOWL
DESCRIPTION:Our referees will crown a Souper Bowl champion! Vote for your favorite soup and benefit The Alzheimer's Association at the same time. Wear your favorite team jersey. $2.00 to sample!
X-ALT-DESC;FMTTYPE=text/html:Our referees will crown a Souper Bowl champion! Vote for your favorite soup and benefit The Alzheimer&#39\;s Association at the same time. Wear your favorite team jersey. $2.00 to sample!&nbsp\;
LOCATION:501 E Spruce St\, Mitchell SD
UID:e.1624.21806
SEQUENCE:3
DTSTAMP:20260424T184353Z
URL:https://business.mitchellchamber.com/events/details/souper-bowl-21806
END:VEVENT

END:VCALENDAR
