BEGIN:VCALENDAR
VERSION:2.0
PRODID:-//ChamberMaster//Event Calendar 2.0//EN
METHOD:PUBLISH
X-PUBLISHED-TTL:P3D
REFRESH-INTERVAL:P3D
CALSCALE:GREGORIAN
BEGIN:VEVENT
DTSTART:20260326T230000Z
DTEND:20260327T020000Z
X-MICROSOFT-CDO-ALLDAYEVENT:FALSE
SUMMARY:Songwriter's Showcase
DESCRIPTION:Thursday Night Live at the Pepsi-Cola Theater. Songwriter's Showcase. \n\nThursday\, March 26th \n\nDoors | 6:00 PM + Cocktail Hour\n\n7:00 PM | Showtime \n\nFree admission - all ages are welcome!
X-ALT-DESC;FMTTYPE=text/html:Thursday Night Live at the Pepsi-Cola Theater. Songwriter&#39\;s Showcase.&nbsp\;<br />\nThursday\, March 26th&nbsp\;<br />\nDoors | 6:00 PM + Cocktail Hour<br />\n7:00 PM | Showtime&nbsp\;<br />\nFree admission - all ages are welcome!
LOCATION:Mitchell Area Community Theatre 700 N Main St.
UID:e.1624.42618
SEQUENCE:3
DTSTAMP:20260423T123324Z
URL:https://business.mitchellchamber.com/events/details/songwriter-s-showcase-42618
END:VEVENT

END:VCALENDAR
