BEGIN:VCALENDAR
VERSION:2.0
PRODID:-//ChamberMaster//Event Calendar 2.0//EN
METHOD:PUBLISH
X-PUBLISHED-TTL:P3D
REFRESH-INTERVAL:P3D
CALSCALE:GREGORIAN
BEGIN:VEVENT
DTSTART:20220305T213000Z
DTEND:20220306T010000Z
X-MICROSOFT-CDO-ALLDAYEVENT:FALSE
SUMMARY:SoDak 16 AA Basketball - Mitchell Kernel Boys vs. Rapid City Stevens
DESCRIPTION:Class AA SoDak 16\n\n\n\nMitchell Kernel Boys vs. Rapid City Stevens
X-ALT-DESC;FMTTYPE=text/html:Class AA SoDak 16<br />\n<br />\nMitchell Kernel Boys vs. Rapid City Stevens&nbsp\;
LOCATION:Corn Palace Mitchell\, South Dakota
UID:e.1624.32155
SEQUENCE:3
DTSTAMP:20260422T001336Z
URL:https://business.mitchellchamber.com/events/details/sodak-16-aa-basketball-mitchell-kernel-boys-vs-rapid-city-stevens-32155
END:VEVENT

END:VCALENDAR
