BEGIN:VCALENDAR
VERSION:2.0
PRODID:-//ChamberMaster//Event Calendar 2.0//EN
METHOD:PUBLISH
X-PUBLISHED-TTL:P3D
REFRESH-INTERVAL:P3D
CALSCALE:GREGORIAN
BEGIN:VEVENT
DTSTART:20180213T170000Z
DTEND:20180213T190000Z
X-MICROSOFT-CDO-ALLDAYEVENT:FALSE
SUMMARY:Shrove Tuesday Pancake & Sausage Dinner
DESCRIPTION:Downtown Mitchell United Methodist Church is hosting their All You Can Eat- Traditional Shrove Tuesday Pancake & Sausage Dinner.
X-ALT-DESC;FMTTYPE=text/html:Downtown Mitchell United Methodist Church is hosting their All You Can Eat- Traditional Shrove Tuesday Pancake &amp\; Sausage Dinner.<br />\n<br />\n<br />\n<br />\n&nbsp\;
LOCATION:First United Methodist Church 310 N Rowley Enter at South Door on 3rd Avenue Rowley St. entrance is handicap accessible.
UID:e.1624.11123
SEQUENCE:3
DTSTAMP:20260425T185636Z
URL:https://business.mitchellchamber.com/events/details/shrove-tuesday-pancake-sausage-dinner-11123
END:VEVENT

END:VCALENDAR
