BEGIN:VCALENDAR
VERSION:2.0
PRODID:-//ChamberMaster//Event Calendar 2.0//EN
METHOD:PUBLISH
X-PUBLISHED-TTL:P3D
REFRESH-INTERVAL:P3D
CALSCALE:GREGORIAN
BEGIN:VEVENT
DTSTART:20240429T173000Z
DTEND:20240429T200000Z
X-MICROSOFT-CDO-ALLDAYEVENT:FALSE
SUMMARY:Shred Day in Mitchell
DESCRIPTION:Monday\, April 29\n\n12:30 PM - 3:00 PM\n\nMark your calendar for Shred Days at First Dakota National Bank.\n\nFirst Dakota National Bank allows community members to shred their sensitive documents free of charge. Individuals and local businesses can use this service to safely dispose of documents containing sensitive information such as an individual's signature\, account number\, social security number\, or medical and legal information. Check with your tax or financial advisors on how long to keep documents in case of an audit. Get your documents prepared today!\n\nwww.firstdakota.com/shred-day
X-ALT-DESC;FMTTYPE=text/html:<div>Monday\, April 29<br />\n12:30 PM - 3:00 PM</div>\n\n<div>Mark your calendar for Shred Days at First Dakota National Bank.<br />\nFirst Dakota National Bank allows community members to shred their sensitive documents free of charge. Individuals and local businesses can use this service to safely dispose of documents containing sensitive information such as an individual&#39\;s signature\, account number\, social security number\, or medical and legal information. Check with your tax or financial advisors on how long to keep documents in case of an audit. Get your documents prepared today!<br />\n<a href="https://www.firstdakota.com/shred-day?fbclid=IwZXh0bgNhZW0CMTAAAR01FYTuVjCdSTXKxnM1RD24BXmHZyoRHk4VpU-GnnZ8Ic6p-z8qBd39Hxc_aem_AcWnN_UkvCmWed484oh8i6E4tBH7EK7u7WwYtkrpP4D5J7Zta2svG_CXBO_5opWRLCo5GUsvJSMO6f6u3E7eluWX" rel="nofollow noreferrer" role="link" tabindex="0" target="_blank">www.firstdakota.com/shred-day</a></div>\n
LOCATION:First Dakota National Bank 1712 N. Main St\, Mitchell\, SD 57301
UID:e.1624.36364
SEQUENCE:3
DTSTAMP:20260420T081601Z
URL:https://business.mitchellchamber.com/events/details/shred-day-in-mitchell-36364
END:VEVENT

END:VCALENDAR
