BEGIN:VCALENDAR
VERSION:2.0
PRODID:-//ChamberMaster//Event Calendar 2.0//EN
METHOD:PUBLISH
X-PUBLISHED-TTL:P3D
REFRESH-INTERVAL:P3D
CALSCALE:GREGORIAN
BEGIN:VEVENT
DTSTART:20260505T173000Z
DTEND:20260505T200000Z
X-MICROSOFT-CDO-ALLDAYEVENT:FALSE
SUMMARY:Shred Day
DESCRIPTION:Let us help you protect your identity. Join us for our annual shred day on Tuesday\, May 5 at our Mitchell North location from 12:30 PM - 3:00 PM. Bring boxes/bags of paper documents containing personal identifiers so they can be shredded.\n\n \nIf you have questions regarding retention\, we recommend you consult with your accountant and/or attorney to learn what is best for your situation.
X-ALT-DESC;FMTTYPE=text/html:<div><span style="background-color:rgb(255\, 255\, 255)\; color:rgb(23\, 23\, 23)\; font-family:montserrat\,sans-serif\; font-size:16px">Let us help you protect your identity. Join us for our annual shred day on Tuesday\, May 5 at our Mitchell North location from 12:30 PM - 3:00 PM. Bring boxes/bags of paper documents containing personal identifiers so they can be shredded.</span></div>\n\n<div>&nbsp\;</div>\n<span style="background-color:rgb(255\, 255\, 255)\; color:rgb(23\, 23\, 23)\; font-family:montserrat\,sans-serif\; font-size:16px">If you have questions regarding retention\, we recommend you consult with your accountant and/or attorney to learn what is best for your situation.</span>
LOCATION:First Dakota North 1712 N Main Street Mitchell\, SD
UID:e.1624.42642
SEQUENCE:3
DTSTAMP:20260421T185428Z
URL:https://business.mitchellchamber.com/events/details/shred-day-42642
END:VEVENT

END:VCALENDAR
