BEGIN:VCALENDAR
VERSION:2.0
PRODID:-//ChamberMaster//Event Calendar 2.0//EN
METHOD:PUBLISH
X-PUBLISHED-TTL:P3D
REFRESH-INTERVAL:P3D
CALSCALE:GREGORIAN
BEGIN:VEVENT
DTSTART;VALUE=DATE:20260328
DTEND;VALUE=DATE:20260329
TRANSP:TRANSPARENT
X-MICROSOFT-CDO-ALLDAYEVENT:TRUE
SUMMARY:Shoe Sensation Hosts - FREE Cash Saturday
DESCRIPTION:Shoe Sensation Hosts FREE CASH\n\n			SATURDAY   March 28  \n		\n		\n			$1\,000 Donation to The Caring Closet Highlights Commitment\n\n			to Community\n		\n		\n			First 50 Customers Receive a Mystery Card Worth Up to $100!\n		\n		\n			 \n\n			WHAT:\n		\n		\n			Shoe Sensation is giving away FREE CASH to kick off spring shopping season   and giving\n\n			back to the community at the same time.\n		\n		\n			On Saturday\, March 28\, the first 50 customers in-store will receive a mystery card valued\n\n			at up to $100 to use toward their purchase that day. In addition\, Shoe Sensation will present a\n\n			$1\,000 donation to The Caring Closet\, reinforcing the company's commitment to supporting the\n\n			communities it serves.\n		\n		\n			 \n\n			WHEN:\n		\n		\n			Saturday\, March 28\n		\n		\n			Doors open at regular store hours (customers encouraged to arrive early)\n		\n		\n			 \n\n			WHERE:\n		\n		\n			Shoe Sensation\n		\n		\n			 \n		\n		\n			DETAILS:\n		\n		\n			  First 50 customers receive a mystery card\n		\n		\n			  Cards valued up to $100\n		\n		\n			  Valid in-store only on March 28\n		\n		\n			  One per customer\, while supplies last\n		\n		\n			  $1\,000 donation presented to a local charity (insert charity name)\n		\n		\n			 \n\n			WHY:\n		\n		\n			Community is at the heart of Shoe Sensation. FREE CASH SATURDAY is\n\n			not only about helping families save on top brands for the whole family   it's about\n\n			giving back and investing in the neighborhoods that support us every day.\n		\n		\n			With rising costs everywhere\, Shoe Sensation is proud to provide meaningful savings\n\n			for customers while making a tangible difference locally.
X-ALT-DESC;FMTTYPE=text/html:<table border="0" cellpadding="0" cellspacing="0" style="width:1009px\;border-collapse:collapse\;" width="1009">\n	<tbody>\n		<tr style="height:33px\;">\n			<td nowrap="nowrap" style="width:851px\;padding:.75pt 5.4pt .75pt 5.4pt\;height:33px\;vertical-align:bottom\;"><strong><span style="color:black\;"><span style="font-family:segoe ui emoji\,sans-serif\;"><span style="font-size:18.0pt\;">&#128181\;</span></span></span></strong><strong><span style="color:black\;"><span style="font-family:aptos narrow\,sans-serif\;"><span style="font-size:18.0pt\;"> Shoe Sensation Hosts FREE CASH<br />\n			SATURDAY &ndash\; March 28 </span></span></span></strong><strong><span style="color:black\;"><span style="font-family:segoe ui emoji\,sans-serif\;"><span style="font-size:18.0pt\;">&#128181\;</span></span></span></strong></td>\n		</tr>\n		<tr style="height:25px\;">\n			<td nowrap="nowrap" style="width:851px\;padding:.75pt 5.4pt .75pt 5.4pt\;height:25px\;vertical-align:bottom\;"><strong><span style="color:black\;"><span style="font-family:aptos narrow\,sans-serif\;"><span style="font-size:13.5pt\;">$1\,000 Donation to The Caring Closet Highlights Commitment<br />\n			to Community</span></span></span></strong></td>\n		</tr>\n		<tr style="height:21px\;">\n			<td nowrap="nowrap" style="width:851px\;padding:.75pt 5.4pt .75pt 5.4pt\;height:21px\;vertical-align:bottom\;"><strong><span style="color:black\;"><span style="font-family:aptos narrow\,sans-serif\;"><span style="font-size:11.0pt\;">First 50 Customers Receive a Mystery Card Worth Up to $100!</span></span></span></strong></td>\n		</tr>\n		<tr style="height:25px\;">\n			<td nowrap="nowrap" style="width:851px\;padding:.75pt 5.4pt .75pt 5.4pt\;height:25px\;vertical-align:bottom\;">&nbsp\;<br />\n			<strong><span style="color:black\;"><span style="font-family:aptos narrow\,sans-serif\;"><span style="font-size:13.5pt\;">WHAT:</span></span></span></strong></td>\n		</tr>\n		<tr style="height:21px\;">\n			<td nowrap="nowrap" style="width:851px\;padding:.75pt 5.4pt .75pt 5.4pt\;height:21px\;vertical-align:bottom\;"><span style="color:black\;"><span style="font-family:aptos narrow\,sans-serif\;"><span style="font-size:11.0pt\;">Shoe Sensation is giving away FREE CASH to kick off spring shopping season &mdash\; and giving<br />\n			back to the community at the same time.</span></span></span></td>\n		</tr>\n		<tr style="height:21px\;">\n			<td nowrap="nowrap" style="width:851px\;padding:.75pt 5.4pt .75pt 5.4pt\;height:21px\;vertical-align:bottom\;"><span style="color:black\;"><span style="font-family:aptos narrow\,sans-serif\;"><span style="font-size:11.0pt\;">On Saturday\, March 28\, the first 50 customers in-store will receive a mystery card valued<br />\n			at up to $100 to use toward their purchase that day. In addition\, Shoe Sensation will present a<br />\n			$1\,000 donation to The Caring Closet\, reinforcing the company&rsquo\;s commitment to supporting the<br />\n			communities it serves.</span></span></span></td>\n		</tr>\n		<tr style="height:25px\;">\n			<td nowrap="nowrap" style="width:851px\;padding:.75pt 5.4pt .75pt 5.4pt\;height:25px\;vertical-align:bottom\;">&nbsp\;<br />\n			<strong><span style="color:black\;"><span style="font-family:aptos narrow\,sans-serif\;"><span style="font-size:13.5pt\;">WHEN:</span></span></span></strong></td>\n		</tr>\n		<tr style="height:21px\;">\n			<td nowrap="nowrap" style="width:851px\;padding:.75pt 5.4pt .75pt 5.4pt\;height:21px\;vertical-align:bottom\;"><span style="color:black\;"><span style="font-family:aptos narrow\,sans-serif\;"><span style="font-size:11.0pt\;">Saturday\, March 28</span></span></span></td>\n		</tr>\n		<tr style="height:21px\;">\n			<td nowrap="nowrap" style="width:851px\;padding:.75pt 5.4pt .75pt 5.4pt\;height:21px\;vertical-align:bottom\;"><span style="color:black\;"><span style="font-family:aptos narrow\,sans-serif\;"><span style="font-size:11.0pt\;">Doors open at regular store hours (customers encouraged to arrive early)</span></span></span></td>\n		</tr>\n		<tr style="height:25px\;">\n			<td nowrap="nowrap" style="width:851px\;padding:.75pt 5.4pt .75pt 5.4pt\;height:25px\;vertical-align:bottom\;">&nbsp\;<br />\n			<strong><span style="color:black\;"><span style="font-family:aptos narrow\,sans-serif\;"><span style="font-size:13.5pt\;">WHERE:</span></span></span></strong></td>\n		</tr>\n		<tr style="height:21px\;">\n			<td nowrap="nowrap" style="width:851px\;padding:.75pt 5.4pt .75pt 5.4pt\;height:21px\;vertical-align:bottom\;"><span style="color:black\;"><span style="font-family:aptos narrow\,sans-serif\;"><span style="font-size:11.0pt\;">Shoe Sensation</span></span></span></td>\n		</tr>\n		<tr style="height:21px\;">\n			<td nowrap="nowrap" style="width:851px\;padding:.75pt 5.4pt .75pt 5.4pt\;height:21px\;vertical-align:bottom\;">&nbsp\;</td>\n		</tr>\n		<tr style="height:25px\;">\n			<td nowrap="nowrap" style="width:851px\;padding:.75pt 5.4pt .75pt 5.4pt\;height:25px\;vertical-align:bottom\;"><strong><span style="color:black\;"><span style="font-family:aptos narrow\,sans-serif\;"><span style="font-size:13.5pt\;">DETAILS:</span></span></span></strong></td>\n		</tr>\n		<tr style="height:21px\;">\n			<td nowrap="nowrap" style="width:851px\;padding:.75pt 5.4pt .75pt 5.4pt\;height:21px\;vertical-align:bottom\;"><span style="color:black\;"><span style="font-family:aptos narrow\,sans-serif\;"><span style="font-size:11.0pt\;">&bull\; First 50 customers receive a mystery card</span></span></span></td>\n		</tr>\n		<tr style="height:21px\;">\n			<td nowrap="nowrap" style="width:851px\;padding:.75pt 5.4pt .75pt 5.4pt\;height:21px\;vertical-align:bottom\;"><span style="color:black\;"><span style="font-family:aptos narrow\,sans-serif\;"><span style="font-size:11.0pt\;">&bull\; Cards valued up to $100</span></span></span></td>\n		</tr>\n		<tr style="height:21px\;">\n			<td nowrap="nowrap" style="width:851px\;padding:.75pt 5.4pt .75pt 5.4pt\;height:21px\;vertical-align:bottom\;"><span style="color:black\;"><span style="font-family:aptos narrow\,sans-serif\;"><span style="font-size:11.0pt\;">&bull\; Valid in-store only on March 28</span></span></span></td>\n		</tr>\n		<tr style="height:21px\;">\n			<td nowrap="nowrap" style="width:851px\;padding:.75pt 5.4pt .75pt 5.4pt\;height:21px\;vertical-align:bottom\;"><span style="color:black\;"><span style="font-family:aptos narrow\,sans-serif\;"><span style="font-size:11.0pt\;">&bull\; One per customer\, while supplies last</span></span></span></td>\n		</tr>\n		<tr style="height:21px\;">\n			<td nowrap="nowrap" style="width:851px\;padding:.75pt 5.4pt .75pt 5.4pt\;height:21px\;vertical-align:bottom\;"><span style="color:black\;"><span style="font-family:aptos narrow\,sans-serif\;"><span style="font-size:11.0pt\;">&bull\; $1\,000 donation presented to a local charity (insert charity name)</span></span></span></td>\n		</tr>\n		<tr style="height:25px\;">\n			<td nowrap="nowrap" style="width:851px\;padding:.75pt 5.4pt .75pt 5.4pt\;height:25px\;vertical-align:bottom\;">&nbsp\;<br />\n			<strong><span style="color:black\;"><span style="font-family:aptos narrow\,sans-serif\;"><span style="font-size:13.5pt\;">WHY:</span></span></span></strong></td>\n		</tr>\n		<tr style="height:21px\;">\n			<td nowrap="nowrap" style="width:851px\;padding:.75pt 5.4pt .75pt 5.4pt\;height:21px\;vertical-align:bottom\;"><span style="color:black\;"><span style="font-family:aptos narrow\,sans-serif\;"><span style="font-size:11.0pt\;">Community is at the heart of Shoe Sensation. FREE CASH SATURDAY is<br />\n			not only about helping families save on top brands for the whole family &mdash\; it&rsquo\;s about<br />\n			giving back and investing in the neighborhoods that support us every day.</span></span></span></td>\n		</tr>\n		<tr style="height:21px\;">\n			<td nowrap="nowrap" style="width:851px\;padding:.75pt 5.4pt .75pt 5.4pt\;height:21px\;vertical-align:bottom\;"><span style="color:black\;"><span style="font-family:aptos narrow\,sans-serif\;"><span style="font-size:11.0pt\;">With rising costs everywhere\, Shoe Sensation is proud to provide meaningful savings<br />\n			for customers while making a tangible difference locally.</span></span></span></td>\n		</tr>\n	</tbody>\n</table>\n
LOCATION:Shoe Sensations | 1007 E Spruce St.\, Suite 103\, Suite B2
UID:e.1624.42651
SEQUENCE:3
DTSTAMP:20260423T123432Z
URL:https://business.mitchellchamber.com/events/details/shoe-sensation-hosts-free-cash-saturday-42651
END:VEVENT

END:VCALENDAR
