BEGIN:VCALENDAR
VERSION:2.0
PRODID:-//ChamberMaster//Event Calendar 2.0//EN
METHOD:PUBLISH
X-PUBLISHED-TTL:P3D
REFRESH-INTERVAL:P3D
CALSCALE:GREGORIAN
BEGIN:VEVENT
DTSTART:20180509T150000Z
DTEND:20180509T200000Z
X-MICROSOFT-CDO-ALLDAYEVENT:FALSE
SUMMARY:SDRA Employer Rights & Responsibilities Seminar
DESCRIPTION:Jackson Lewis employment law attorney Chris Hoyme will cover key labor law issues that impact every employer\, and answer questions about rights as employers. Over the lunch hour\, the Attorney General's office will explain the new state data breach reporting law going into effect July 1st and what businesses have to do to comply.
X-ALT-DESC;FMTTYPE=text/html:Jackson Lewis employment law attorney Chris Hoyme will cover key labor law issues that impact every employer\, and answer questions about rights as employers. Over the lunch hour\, the Attorney General&#39\;s office will explain the new state data breach reporting law going into effect July 1st and what businesses have to do to comply.
LOCATION:Highland Conference Center\, 2000 Highland Way
UID:e.1624.14655
SEQUENCE:3
DTSTAMP:20260425T144114Z
URL:https://business.mitchellchamber.com/events/details/sdra-employer-rights-responsibilities-seminar-14655
END:VEVENT

END:VCALENDAR
