BEGIN:VCALENDAR
VERSION:2.0
PRODID:-//ChamberMaster//Event Calendar 2.0//EN
METHOD:PUBLISH
X-PUBLISHED-TTL:P3D
REFRESH-INTERVAL:P3D
CALSCALE:GREGORIAN
BEGIN:VEVENT
DTSTART;VALUE=DATE:20220429
DTEND;VALUE=DATE:20220502
TRANSP:TRANSPARENT
X-MICROSOFT-CDO-ALLDAYEVENT:TRUE
SUMMARY:SD State Women's Bowling Championship Tournament
DESCRIPTION:Women Bowling State Championship Tournament
X-ALT-DESC;FMTTYPE=text/html:Women Bowling State Championship Tournament
LOCATION:Village Bowl 1500 N Duff St. #1 Mitchell\, South Dakota
UID:e.1624.32022
SEQUENCE:3
DTSTAMP:20260422T014254Z
URL:https://business.mitchellchamber.com/events/details/sd-state-women-s-bowling-championship-tournament-32022
END:VEVENT

END:VCALENDAR
