BEGIN:VCALENDAR
VERSION:2.0
PRODID:-//ChamberMaster//Event Calendar 2.0//EN
METHOD:PUBLISH
X-PUBLISHED-TTL:P3D
REFRESH-INTERVAL:P3D
CALSCALE:GREGORIAN
BEGIN:VEVENT
DTSTART:20231118T163000Z
DTEND:20231118T171500Z
X-MICROSOFT-CDO-ALLDAYEVENT:FALSE
SUMMARY:Saturday Storytime (Stories in English & Spanish) at Mitchell Public Library
DESCRIPTION:You're invited to Saturday Storytime on Nov. 18 at 10:30am for stories in English & Spanish\, fun activities\, and a craft. Everyone is welcome!
X-ALT-DESC;FMTTYPE=text/html:<div min-height:="" sans="" source="" vertical-align:="">You&#39\;re invited to Saturday Storytime on Nov. 18 at 10:30am for stories in English &amp\; Spanish\, fun activities\, and a craft. Everyone is welcome!</div>\n
LOCATION:Mitchell Public Library Community Room 221 N Duff Mitchell\, SD 57301
UID:e.1624.35175
SEQUENCE:3
DTSTAMP:20260420T142314Z
URL:https://business.mitchellchamber.com/events/details/saturday-storytime-stories-in-english-spanish-at-mitchell-public-library-35175
END:VEVENT

END:VCALENDAR
