BEGIN:VCALENDAR
VERSION:2.0
PRODID:-//ChamberMaster//Event Calendar 2.0//EN
METHOD:PUBLISH
X-PUBLISHED-TTL:P3D
REFRESH-INTERVAL:P3D
CALSCALE:GREGORIAN
BEGIN:VEVENT
DTSTART:20240224T163000Z
DTEND:20240224T171500Z
X-MICROSOFT-CDO-ALLDAYEVENT:FALSE
SUMMARY:Saturday Storytime (Stories in English & Spanish)
DESCRIPTION:You're invited to Saturday Storytime on Feb. 24 at 10:30am for stories in English & Spanish\, fun activities\, and a craft. Everyone is welcome!
X-ALT-DESC;FMTTYPE=text/html:<div class="detailDateDesc" style="box-sizing: content-box\; margin: 0px\; padding: 0px\; border: 0px\; outline: 0px\; font-size: 15.2px\; font-family: &quot\;Source Sans Pro&quot\;\; vertical-align: baseline\; min-height: 55px\;">You&#39\;re invited to Saturday Storytime on Feb. 24 at 10:30am for stories in English &amp\; Spanish\, fun activities\, and a craft. Everyone is welcome!</div>\n
LOCATION:Mitchell Public Library Community Room 221 N. Duff Mitchell\, SD 57301
UID:e.1624.36131
SEQUENCE:3
DTSTAMP:20260420T161329Z
URL:https://business.mitchellchamber.com/events/details/saturday-storytime-stories-in-english-spanish-36131
END:VEVENT

END:VCALENDAR
