BEGIN:VCALENDAR
VERSION:2.0
PRODID:-//ChamberMaster//Event Calendar 2.0//EN
METHOD:PUBLISH
X-PUBLISHED-TTL:P3D
REFRESH-INTERVAL:P3D
CALSCALE:GREGORIAN
BEGIN:VEVENT
DTSTART:20240310T000000Z
DTEND:20240310T030000Z
X-MICROSOFT-CDO-ALLDAYEVENT:FALSE
SUMMARY:Saturday Night DIY Pick Your Project Workshop 16+ years
DESCRIPTION:Join our most popular DIY workshop and create your own unique wood sign! Select a wood project from our gallery. We provide all the materials and instruct you step-by-step to create a beautiful piece for your home or for a gift. Choose from a variety of paint and wood stain colors in the workshop. Pre-registration is required.
X-ALT-DESC;FMTTYPE=text/html:<span style="color:rgb(74\, 74\, 74)\; font-family:droid_sansregular\,sans-serif\; font-size:16px">&nbsp\;Join our most popular DIY workshop and create your own unique wood sign! Select a wood project from our gallery. We provide all the materials and instruct you step-by-step to create a beautiful piece for your home or for a gift. Choose from a variety of paint and wood stain colors in the workshop. Pre-registration is required.</span>
LOCATION:Board & Brush Mitchell 405 N Main Street
UID:e.1624.36143
SEQUENCE:3
DTSTAMP:20260420T105311Z
URL:https://business.mitchellchamber.com/events/details/saturday-night-diy-pick-your-project-workshop-16-years-36143
END:VEVENT

END:VCALENDAR
