BEGIN:VCALENDAR
VERSION:2.0
PRODID:-//ChamberMaster//Event Calendar 2.0//EN
METHOD:PUBLISH
X-PUBLISHED-TTL:P3D
REFRESH-INTERVAL:P3D
CALSCALE:GREGORIAN
BEGIN:VEVENT
DTSTART:20171115T211500Z
DTEND:20171116T000000Z
X-MICROSOFT-CDO-ALLDAYEVENT:FALSE
SUMMARY:Santa is Coming to State Farm
DESCRIPTION:Santa is coming to State Farm!  Stop by and get your picture taken with Santa!  $7 (5x7 professional photo) or $6 with a donation of a food item(s) for the Salvation Army Food Pantry.  All financial proceeds will be donated to CASA- Court Appointed Special Advocates for Children.\n\nExtra photos/cards can be ordered through Photography Unlimited in time for Christmas.
X-ALT-DESC;FMTTYPE=text/html:Santa is coming to State Farm!&nbsp\; Stop by and get your picture taken with Santa!&nbsp\; $7 (5x7 professional photo) or $6 with a donation of a food item(s) for the Salvation Army Food Pantry.&nbsp\; All financial proceeds will be donated to CASA- Court Appointed Special Advocates for Children.<br />\nExtra photos/cards can be ordered through Photography Unlimited in time for Christmas.
LOCATION:Becky Moore State Farm 1204 S Burr St Mitchell\, SD
UID:e.1624.9180
SEQUENCE:3
DTSTAMP:20260425T235719Z
URL:https://business.mitchellchamber.com/events/details/santa-is-coming-to-state-farm-9180
END:VEVENT

END:VCALENDAR
