BEGIN:VCALENDAR
VERSION:2.0
PRODID:-//ChamberMaster//Event Calendar 2.0//EN
METHOD:PUBLISH
X-PUBLISHED-TTL:P3D
REFRESH-INTERVAL:P3D
CALSCALE:GREGORIAN
BEGIN:VEVENT
DTSTART:20180417T223000Z
DTEND:20180418T013000Z
X-MICROSOFT-CDO-ALLDAYEVENT:FALSE
SUMMARY:Safety Expo - Sponsored by Davison Child Protection Team
DESCRIPTION:Safety Expo is supported by the Davison County Child Protection Team. The purpose of the Child Protection Team is to enhance the quality of protection and services provided to children and their families. We are offering a free community event for the community to learn about internet safety\, financial safety\, information about human trafficking\, and learn about what efforts are being used to address methamphetamine use and human trafficking in our state.
X-ALT-DESC;FMTTYPE=text/html:<span style="background-color:rgb(255\, 255\, 255)\; color:rgb(75\, 79\, 86)\; font-family:helvetica\,arial\,sans-serif\; font-size:14px">Safety Expo is supported by the Davison County Child Protection Team. The purpose of the Child Protection Team is to enhance the quality of protection and services provided to children and their families. We are offering a free community event for the community to learn about internet safety\, financial safety\, information about human trafficking\, and learn about what efforts are being used to address methamphetamine use and human trafficking in our state.</span>
LOCATION:Mitchell Technical Institute\, Technology Center 1800 East Spruce St. Mitchell\, SD 57301
UID:e.1624.14531
SEQUENCE:3
DTSTAMP:20260425T161954Z
URL:https://business.mitchellchamber.com/events/details/safety-expo-sponsored-by-davison-child-protection-team-14531
END:VEVENT

END:VCALENDAR
