BEGIN:VCALENDAR
VERSION:2.0
PRODID:-//ChamberMaster//Event Calendar 2.0//EN
METHOD:PUBLISH
X-PUBLISHED-TTL:P3D
REFRESH-INTERVAL:P3D
CALSCALE:GREGORIAN
BEGIN:VEVENT
DTSTART:20140412T170000Z
DTEND:20140412T183000Z
X-MICROSOFT-CDO-ALLDAYEVENT:FALSE
SUMMARY:Safehouse Salad Luncheon
DESCRIPTION:Salad luncheon to benefit the Mitchell Area Safehouse.
X-ALT-DESC;FMTTYPE=text/html:Salad luncheon to benefit the Mitchell Area Safehouse.
LOCATION:L. B. Williams
UID:e.1624.1106
SEQUENCE:3
DTSTAMP:20260421T201958Z
URL:https://business.mitchellchamber.com/events/details/safehouse-salad-luncheon-04-12-2014-1106
END:VEVENT

END:VCALENDAR
