BEGIN:VCALENDAR
VERSION:2.0
PRODID:-//ChamberMaster//Event Calendar 2.0//EN
METHOD:PUBLISH
X-PUBLISHED-TTL:P3D
REFRESH-INTERVAL:P3D
CALSCALE:GREGORIAN
BEGIN:VEVENT
DTSTART:20220313T180000Z
DTEND:20220313T200000Z
X-MICROSOFT-CDO-ALLDAYEVENT:FALSE
SUMMARY:Sabina - Tortured For Christ
DESCRIPTION:"Nazis killed her entire family. She risked everything to share the love and truth of Christ with them."
X-ALT-DESC;FMTTYPE=text/html:&quot\;Nazis killed her entire family. She risked everything to share the love and truth of Christ with them.&quot\;<br />\n&nbsp\;
LOCATION:First Presbyterian Church 500 East 5th Mitchell\, South Dakota
UID:e.1624.32178
SEQUENCE:3
DTSTAMP:20260422T001109Z
URL:https://business.mitchellchamber.com/events/details/sabina-tortured-for-christ-32178
END:VEVENT

END:VCALENDAR
