BEGIN:VCALENDAR
VERSION:2.0
PRODID:-//ChamberMaster//Event Calendar 2.0//EN
METHOD:PUBLISH
X-PUBLISHED-TTL:P3D
REFRESH-INTERVAL:P3D
CALSCALE:GREGORIAN
BEGIN:VEVENT
DTSTART;VALUE=DATE:20220312
DTEND;VALUE=DATE:20220314
TRANSP:TRANSPARENT
X-MICROSOFT-CDO-ALLDAYEVENT:TRUE
SUMMARY:Runnings Annual Tax Relief Weekend - Discount Storewide
DESCRIPTION:Runnings Annual Tax Relief Weekend is scheduled for next Saturday and Sunday\, March 12th and 13th. In Mitchell\, customers shopping our stores will receive an instant discount equal to applicable sales tax on their instore purchases.
X-ALT-DESC;FMTTYPE=text/html:<span style="background:yellow\;"><span style="font-family:segoe ui historic\,sans-serif\;"><span style="font-size:12.0pt\;">Runnings Annual Tax Relief Weekend</span></span></span><span style="font-family:segoe ui historic\,sans-serif\;"><span style="font-size:12.0pt\;"> is scheduled for next Saturday and Sunday\, March 12<sup>th</sup> and 13<sup>th</sup>. In Mitchell\, customers shopping our stores will receive an instant discount equal to applicable sales tax on their instore purchases.&nbsp\;</span></span>
LOCATION:1313 South Burr Street Mitchell\, SD
UID:e.1624.32157
SEQUENCE:3
DTSTAMP:20260422T002128Z
URL:https://business.mitchellchamber.com/events/details/runnings-annual-tax-relief-weekend-discount-storewide-32157
END:VEVENT

END:VCALENDAR
