BEGIN:VCALENDAR
VERSION:2.0
PRODID:-//ChamberMaster//Event Calendar 2.0//EN
METHOD:PUBLISH
X-PUBLISHED-TTL:P3D
REFRESH-INTERVAL:P3D
CALSCALE:GREGORIAN
BEGIN:VEVENT
DTSTART:20171111T150000Z
DTEND:20171111T210000Z
X-MICROSOFT-CDO-ALLDAYEVENT:FALSE
SUMMARY:RSVP Holiday Vendor & Craft Show
DESCRIPTION:RSVP Holiday Vendor & Craft Show and JVCC Bakesale   Sat.\, Nov. 11 @ 9 a.m.   3 p.m. at JVCC   Get your holiday shopping done early!
X-ALT-DESC;FMTTYPE=text/html:<strong><span style="color:#00B050"><span style="font-family:calibri\,sans-serif"><span style="font-size:12.0pt">RSVP Holiday Vendor &amp\; Craft Show and JVCC Bakesale &ndash\; Sat.\, Nov. 11 @ 9 a.m. &ndash\; 3 p.m. at JVCC &ndash\; Get your holiday shopping done early!&nbsp\;</span></span></span></strong>
LOCATION:James Valley Community Center\, 300 W 1st Ave - Mitchell
UID:e.1624.9140
SEQUENCE:3
DTSTAMP:20260425T235731Z
URL:https://business.mitchellchamber.com/events/details/rsvp-holiday-vendor-craft-show-9140
END:VEVENT

END:VCALENDAR
