BEGIN:VCALENDAR
VERSION:2.0
PRODID:-//ChamberMaster//Event Calendar 2.0//EN
METHOD:PUBLISH
X-PUBLISHED-TTL:P3D
REFRESH-INTERVAL:P3D
CALSCALE:GREGORIAN
BEGIN:VEVENT
DTSTART:20240309T033000Z
DTEND:20240309T050000Z
X-MICROSOFT-CDO-ALLDAYEVENT:FALSE
SUMMARY:Rowan Grace at Thirsty's
DESCRIPTION:One of the Midwest's brightest rising stars\, Rowan Grace skyrocketed into the spotlight last year when she was selected to participate in Season 22 of NBC's The Voice. Her authentic talent and indisputable drive carried her all the way to the top 10 and earned her countless fans across the country. Upon her homecoming to Rapid City\, SD\, Rowan is showing no signs of slowing down\, with a band of all-star musicians behind her\, she's had the opportunity to open for Lady A\, Sawyer Brown\, Neal McCoy\, and Megan Moroney. Rowan Grace and her band put on a high energy show with original music as well as a unique mix of pop\, rock\, and funk music.
X-ALT-DESC;FMTTYPE=text/html:One of the Midwest&#39\;s brightest rising stars\, Rowan Grace skyrocketed into the spotlight last year when she was selected to participate in Season 22 of NBC&rsquo\;s The Voice. Her authentic talent and indisputable drive carried her all the way to the top 10 and earned her countless fans across the country. Upon her homecoming to Rapid City\, SD\, Rowan is showing no signs of slowing down\, with a band of all-star musicians behind her\, she&rsquo\;s had the opportunity to open for Lady A\, Sawyer Brown\, Neal McCoy\, and Megan Moroney. Rowan Grace and her band put on a high energy show with original music as well as a unique mix of pop\, rock\, and funk music.
LOCATION:Thirsty's 1500 N Duff. St. Mitchell\, SD 57301
UID:e.1624.36165
SEQUENCE:3
DTSTAMP:20260420T104958Z
URL:https://business.mitchellchamber.com/events/details/rowan-grace-at-thirsty-s-36165
END:VEVENT

END:VCALENDAR
