BEGIN:VCALENDAR
VERSION:2.0
PRODID:-//ChamberMaster//Event Calendar 2.0//EN
METHOD:PUBLISH
X-PUBLISHED-TTL:P3D
REFRESH-INTERVAL:P3D
CALSCALE:GREGORIAN
BEGIN:VEVENT
DTSTART:20200308T030000Z
DTEND:20200308T055500Z
X-MICROSOFT-CDO-ALLDAYEVENT:FALSE
SUMMARY:Rockin' Big Dummy's
DESCRIPTION:
X-ALT-DESC;FMTTYPE=text/html:
LOCATION:Big Dummy's Bar 112 N Main St Mitchell
UID:e.1624.27757
SEQUENCE:3
DTSTAMP:20260423T204602Z
URL:https://business.mitchellchamber.com/events/details/rockin-big-dummy-s-27757
END:VEVENT

END:VCALENDAR
